BEGIN:VCALENDAR
VERSION:2.0
PRODID:-//METZ TECHNO&#039;PÔLES - ECPv6.15.20//NONSGML v1.0//EN
CALSCALE:GREGORIAN
METHOD:PUBLISH
X-ORIGINAL-URL:https://www.metztechnopoles.fr
X-WR-CALDESC:Évènements pour METZ TECHNO&#039;PÔLES
REFRESH-INTERVAL;VALUE=DURATION:PT1H
X-Robots-Tag:noindex
X-PUBLISHED-TTL:PT1H
BEGIN:VTIMEZONE
TZID:Europe/Paris
BEGIN:DAYLIGHT
TZOFFSETFROM:+0100
TZOFFSETTO:+0200
TZNAME:CEST
DTSTART:20240331T010000
END:DAYLIGHT
BEGIN:STANDARD
TZOFFSETFROM:+0200
TZOFFSETTO:+0100
TZNAME:CET
DTSTART:20241027T010000
END:STANDARD
BEGIN:DAYLIGHT
TZOFFSETFROM:+0100
TZOFFSETTO:+0200
TZNAME:CEST
DTSTART:20250330T010000
END:DAYLIGHT
BEGIN:STANDARD
TZOFFSETFROM:+0200
TZOFFSETTO:+0100
TZNAME:CET
DTSTART:20251026T010000
END:STANDARD
BEGIN:DAYLIGHT
TZOFFSETFROM:+0100
TZOFFSETTO:+0200
TZNAME:CEST
DTSTART:20260329T010000
END:DAYLIGHT
BEGIN:STANDARD
TZOFFSETFROM:+0200
TZOFFSETTO:+0100
TZNAME:CET
DTSTART:20261025T010000
END:STANDARD
END:VTIMEZONE
BEGIN:VEVENT
DTSTART;TZID=Europe/Paris:20250317T080000
DTEND;TZID=Europe/Paris:20251026T170000
DTSTAMP:20260425T131224
CREATED:20250324T075114Z
LAST-MODIFIED:20250707T123024Z
UID:6212-1742198400-1761498000@www.metztechnopoles.fr
SUMMARY:Appel à projets
DESCRIPTION:Déposer un projet\n4 appels à projets à venir\n19 décembre au 19 janvier 2025 \n17 mars au 6 avril 2025 \n23 juin au 10 août 2025 \n26 septembre au 26 octobre 2025 \nL’aide apportée par Moselle Mécènes Solidaires permet de soutenir l’amorçage ou le changement d’échelle de projets innovants à forte valeur ajoutée pour le territoire. Notre soutien n’a pas vocation à se reproduire annuellement. L’aide apportée devra concerner des dépenses d’investissement. Moselle Mécènes Solidaires ne soutient pas de projets événementiels sportifs et/ou culturels. Enfin\, nos administrateurs et mécènes sont très vigilants à la mesure de l’impact social et/ou environnemental des projets aidés. \nInscription : obligatoire\nOrganisateur : Moselle Mécènes Solidaires\nPlus d’informations : communication@moselle-mecenes-solidaires.fr
URL:https://www.metztechnopoles.fr/evenements/appel-a-projets-2/
CATEGORIES:Actualités de l'Entrepreneur,Actualités de l'innovation et du numérique,Tous les événements
ATTACH;FMTTYPE=image/png:https://www.metztechnopoles.fr/wp-content/uploads/2025/03/VISUELS-NL-CLUBS-ET-RESEAUX-NL-2025-07-07T142943.017.png
END:VEVENT
BEGIN:VEVENT
DTSTART;TZID=Europe/Paris:20250618T080000
DTEND;TZID=Europe/Paris:20250915T235900
DTSTAMP:20260425T131224
CREATED:20250618T070009Z
LAST-MODIFIED:20250618T070009Z
UID:6682-1750233600-1757980740@www.metztechnopoles.fr
SUMMARY:Appel à projets : parcours Élan
DESCRIPTION:Rejoignez la promo 2026 de l’Incubateur du Filon ! \nLe Filon lance son appel à projets ÉLAN\, le parcours phare de son incubateur dédié aux initiatives à impact social. Notre objectif ? Propulser les projets les plus prometteurs de Moselle ! \nÉLAN\, c’est un accompagnement de 8 mois alliant : \nDes ateliers collectifs pour monter en compétences\nDu co-développement entre pairs pour s’enrichir mutuellement\nDes rencontres avec des expert·es de l’ESS pour structurer et déployer votre projet\nUn parcours pour booster votre impact et rejoindre une communauté engagée ! \nÀ vos agendas : \nCandidatures ouvertes jusqu’au 15 septembre 2025\nEntretiens de présélection : 8\, 13 et 15 octobre 2025\nJury de sélection : 19 novembre 2025\nDémarrage du parcours : 29 janvier 2026\nUne question ? Vous voulez vous assurer que l’appel à projets est fait pour vous ? N’hésitez pas à nous contacter par mail : incubateur@lefilon.org
URL:https://www.metztechnopoles.fr/evenements/appel-a-projets-parcours-elan/
CATEGORIES:Actualités de l'Entrepreneur,Appel à projets,Tous les événements
ATTACH;FMTTYPE=image/png:https://www.metztechnopoles.fr/wp-content/uploads/2025/06/VISUELS-NL-CLUBS-ET-RESEAUX-NL-2025-06-18T085530.890.png
END:VEVENT
BEGIN:VEVENT
DTSTART;TZID=Europe/Paris:20250903T080000
DTEND;TZID=Europe/Paris:20250926T170000
DTSTAMP:20260425T131224
CREATED:20250903T135303Z
LAST-MODIFIED:20250903T135303Z
UID:6919-1756886400-1758906000@www.metztechnopoles.fr
SUMMARY:Le Village by CA Lorraine : Appel à candidatures
DESCRIPTION:🚀 Le Village by CA Lorraine\, lance son appel à candidatures pour la rentrée ! 🚀 \nLe Village by CA Lorraine recherche de nouvelles start-ups innovantes pour intégrer son programme d’accélération. \nVous êtes une start-up innovante ? Vous êtes au stade de post-incubation ? Vous êtes immatriculé au RCS ? \nAlors Le Village by CA Lorraine peut vous offrir : \n• Une session d’intégration d’une journée et demie avec des temps d’échange\, partages d’expérience et rencontre des partenaires. \n• Un programme individuel et personnalisé avec coaching pour s’adapter à vos besoins et maximiser vos chances de succès. \n• Des ateliers collectifs à travers des échanges avec des experts pour vous permettre de vous développer sur des thématiques différentes. \n• Un réseau unique et des relations privilégiées avec des TPE\, PME et grands groupes tous secteurs d’activités confondus. \n• Une visibilité accrue notamment lors d’événements (Networking\, Business Connect\, etc.) et sur nos réseaux sociaux. \nEn résumé\, le Village vous accompagne pour accélérer votre développement ! \nCandidatez avant le 26 septembre 2025 ! \nRejoignez la grande famille du réseau des Villages !
URL:https://www.metztechnopoles.fr/evenements/le-village-by-ca-lorraine-appel-a-candidatures/
CATEGORIES:Actualités de l'Entrepreneur,Tous les événements
ATTACH;FMTTYPE=image/png:https://www.metztechnopoles.fr/wp-content/uploads/2025/09/VISUELS-NL-CLUBS-ET-RESEAUX-NL-2025-09-03T155026.159.png
END:VEVENT
END:VCALENDAR