BEGIN:VCALENDAR
VERSION:2.0
PRODID:-//METZ TECHNO&#039;PÔLES - ECPv6.15.20//NONSGML v1.0//EN
CALSCALE:GREGORIAN
METHOD:PUBLISH
X-ORIGINAL-URL:https://www.metztechnopoles.fr
X-WR-CALDESC:Évènements pour METZ TECHNO&#039;PÔLES
REFRESH-INTERVAL;VALUE=DURATION:PT1H
X-Robots-Tag:noindex
X-PUBLISHED-TTL:PT1H
BEGIN:VTIMEZONE
TZID:Europe/Paris
BEGIN:DAYLIGHT
TZOFFSETFROM:+0100
TZOFFSETTO:+0200
TZNAME:CEST
DTSTART:20250330T010000
END:DAYLIGHT
BEGIN:STANDARD
TZOFFSETFROM:+0200
TZOFFSETTO:+0100
TZNAME:CET
DTSTART:20251026T010000
END:STANDARD
BEGIN:DAYLIGHT
TZOFFSETFROM:+0100
TZOFFSETTO:+0200
TZNAME:CEST
DTSTART:20260329T010000
END:DAYLIGHT
BEGIN:STANDARD
TZOFFSETFROM:+0200
TZOFFSETTO:+0100
TZNAME:CET
DTSTART:20261025T010000
END:STANDARD
BEGIN:DAYLIGHT
TZOFFSETFROM:+0100
TZOFFSETTO:+0200
TZNAME:CEST
DTSTART:20270328T010000
END:DAYLIGHT
BEGIN:STANDARD
TZOFFSETFROM:+0200
TZOFFSETTO:+0100
TZNAME:CET
DTSTART:20271031T010000
END:STANDARD
END:VTIMEZONE
BEGIN:VEVENT
DTSTART;TZID=Europe/Paris:20260304T083000
DTEND;TZID=Europe/Paris:20260304T100000
DTSTAMP:20260426T025551
CREATED:20251014T090857Z
LAST-MODIFIED:20260211T080107Z
UID:7048-1772613000-1772618400@www.metztechnopoles.fr
SUMMARY:Masterclass Entrepreneuriale : Financement : comment parler le langage des financeurs et activer les bons leviers ?
DESCRIPTION:Metz Techno’pôles\, en partenariat avec CPA le plaisir de vous inviter à la prochaine Masterclass Entrepreneuriale au TELIS. \nFinancement : comment parler le langage des financeurs et activer les bons leviers ? \n\nCette Masterclass sera animée par Landy-Laure SANSEIGNE\, Facilitatrice au développement des entreprises engagées\, France Active Lorraine \n\nAu programme : ​​​​​​\n\n08H15 : Accueil – café et viennoiseries – réseautage\n08H30 : Début de la Masterclass\n09H30 : Échanges et débats avec les participants\n10H00 : Fin de la Masterclass\n\nInscription obligatoire | Participation gratuite\nOrganisateur : Metz Techno’pôles\nPlus d’informations : 03 87 20 41 42 | myreseau@metztechnopoles.fr
URL:https://www.metztechnopoles.fr/evenements/masterclass-entrepreneuriale-gestion-de-patrimoine-une-preoccupation-de-tous-mais-par-ou-commencer/
LOCATION:TELIS\, 1 rue Marconi\, Metz\, 57070\, France
CATEGORIES:Agenda Myreseau,Tous les événements
ATTACH;FMTTYPE=image/png:https://www.metztechnopoles.fr/wp-content/uploads/2025/10/VISUELS-NL-CLUBS-ET-RESEAUX-NL-2026-01-09T141242.536.png
ORGANIZER;CN="MYRESEAU":MAILTO:myreseau@metztechnopoles.fr
END:VEVENT
END:VCALENDAR