BEGIN:VCALENDAR
VERSION:2.0
PRODID:-//METZ TECHNO&#039;PÔLES - ECPv6.15.20//NONSGML v1.0//EN
CALSCALE:GREGORIAN
METHOD:PUBLISH
X-ORIGINAL-URL:https://www.metztechnopoles.fr
X-WR-CALDESC:Évènements pour METZ TECHNO&#039;PÔLES
REFRESH-INTERVAL;VALUE=DURATION:PT1H
X-Robots-Tag:noindex
X-PUBLISHED-TTL:PT1H
BEGIN:VTIMEZONE
TZID:Europe/Paris
BEGIN:DAYLIGHT
TZOFFSETFROM:+0100
TZOFFSETTO:+0200
TZNAME:CEST
DTSTART:20250330T010000
END:DAYLIGHT
BEGIN:STANDARD
TZOFFSETFROM:+0200
TZOFFSETTO:+0100
TZNAME:CET
DTSTART:20251026T010000
END:STANDARD
BEGIN:DAYLIGHT
TZOFFSETFROM:+0100
TZOFFSETTO:+0200
TZNAME:CEST
DTSTART:20260329T010000
END:DAYLIGHT
BEGIN:STANDARD
TZOFFSETFROM:+0200
TZOFFSETTO:+0100
TZNAME:CET
DTSTART:20261025T010000
END:STANDARD
BEGIN:DAYLIGHT
TZOFFSETFROM:+0100
TZOFFSETTO:+0200
TZNAME:CEST
DTSTART:20270328T010000
END:DAYLIGHT
BEGIN:STANDARD
TZOFFSETFROM:+0200
TZOFFSETTO:+0100
TZNAME:CET
DTSTART:20271031T010000
END:STANDARD
END:VTIMEZONE
BEGIN:VEVENT
DTSTART;TZID=Europe/Paris:20260505T083000
DTEND;TZID=Europe/Paris:20260505T100000
DTSTAMP:20260426T030250
CREATED:20260109T094444Z
LAST-MODIFIED:20260410T134630Z
UID:7277-1777969800-1777975200@www.metztechnopoles.fr
SUMMARY:Masterclass Campus Pro : Cybersécurité pour la PME/TPE : protéger ses données sans devenir expert informatique
DESCRIPTION:Metz Techno’pôles\, en partenariat avec la CCI Campus Moselle\, a le plaisir de vous convier à la prochane Masterclass Campus Pro. Une série de rendez-vous dédiés au développement des compétences et à l’expertise professionnelle. \nCybersécurité pour la PME/TPE : protéger ses données sans devenir expert informatique \n\nCette édition sera présentée par \n\nMAJKOWSKI Philippe\, CCI Campus Moselle\n\n\nAu programme : \n\n08H15 : Accueil – café et viennoiseries – réseautage\n08H30 : Début de la Masterclass\n09H30 : Échanges et débats avec les participants\n10H00 : Fin de la Masterclass\n\nInscription : obligatoire | participation gratuite\nOrganisateur : Myreseau\nPlus d’informations : myreseau@metztechnopoles.fr
URL:https://www.metztechnopoles.fr/evenements/masterclass-campus-pro-au-dela-des-apparences-mieux-percevoir-pour-mieux-agir/
LOCATION:CESCOM\, 4 rue Marconi\, Metz\, 57070
CATEGORIES:Agenda des Clubs et Réseaux,Agenda Myreseau,Tous les événements
ATTACH;FMTTYPE=image/png:https://www.metztechnopoles.fr/wp-content/uploads/2026/01/VISUELS-NL-CLUBS-ET-RESEAUX-NL-2026-01-09T104814.434.png
ORGANIZER;CN="MYRESEAU":MAILTO:myreseau@metztechnopoles.fr
END:VEVENT
END:VCALENDAR