BEGIN:VCALENDAR
VERSION:2.0
PRODID:-//METZ TECHNO&#039;PÔLES - ECPv6.15.20//NONSGML v1.0//EN
CALSCALE:GREGORIAN
METHOD:PUBLISH
X-ORIGINAL-URL:https://www.metztechnopoles.fr
X-WR-CALDESC:Évènements pour METZ TECHNO&#039;PÔLES
REFRESH-INTERVAL;VALUE=DURATION:PT1H
X-Robots-Tag:noindex
X-PUBLISHED-TTL:PT1H
BEGIN:VTIMEZONE
TZID:Europe/Paris
BEGIN:DAYLIGHT
TZOFFSETFROM:+0100
TZOFFSETTO:+0200
TZNAME:CEST
DTSTART:20250330T010000
END:DAYLIGHT
BEGIN:STANDARD
TZOFFSETFROM:+0200
TZOFFSETTO:+0100
TZNAME:CET
DTSTART:20251026T010000
END:STANDARD
BEGIN:DAYLIGHT
TZOFFSETFROM:+0100
TZOFFSETTO:+0200
TZNAME:CEST
DTSTART:20260329T010000
END:DAYLIGHT
BEGIN:STANDARD
TZOFFSETFROM:+0200
TZOFFSETTO:+0100
TZNAME:CET
DTSTART:20261025T010000
END:STANDARD
BEGIN:DAYLIGHT
TZOFFSETFROM:+0100
TZOFFSETTO:+0200
TZNAME:CEST
DTSTART:20270328T010000
END:DAYLIGHT
BEGIN:STANDARD
TZOFFSETFROM:+0200
TZOFFSETTO:+0100
TZNAME:CET
DTSTART:20271031T010000
END:STANDARD
END:VTIMEZONE
BEGIN:VEVENT
DTSTART;TZID=Europe/Paris:20260512T184500
DTEND;TZID=Europe/Paris:20260512T204500
DTSTAMP:20260421T111133
CREATED:20241129T082228Z
LAST-MODIFIED:20260312T083033Z
UID:5687-1778611500-1778618700@www.metztechnopoles.fr
SUMMARY:Leadership & Eloquence | Apprendre à parler en public
DESCRIPTION:Maîtriser la prise de parole\, captiver son auditoire\, améliorer son éloquence et son leadership. \nC’est ce que nous vous proposons de découvrir gratuitement\, à travers une méthode simple\, bienveillante et conviviale basée sur la pratique :\nVoir et Entendre – Pratiquer & Évaluer. \nInscription écrite ou téléphonique indispensable\, les invitations sont limitées \nPour plus d’information\, osez appeler le : 06 32 14 58 82. \nAu programme : \n18:45 Accueil\n19:00 Ouverture de la réunion\n19:00 – 20:30 Toast – Discours – Improvisations – Évaluations\n20:30 – Moment convivial \nInscription obligatoire | Participation gratuite\nOrganisateur : Démosthène | https://club-orateurs-messins.com/\nPlus d’informations : demosthene.grandest@gmail.com | 06 32 14 58 82
URL:https://www.metztechnopoles.fr/evenements/leadership-eloquence-apprendre-a-parler-en-public/
LOCATION:Maison des Associations\, 1 rue du Coetlosquet\, Metz\, 57000\, France
CATEGORIES:Agenda des Clubs et Réseaux,Tous les événements
ATTACH;FMTTYPE=image/png:https://www.metztechnopoles.fr/wp-content/uploads/2024/11/VISUELS-NL-CLUBS-ET-RESEAUX-NL-2025-07-07T143418.884.png
ORGANIZER;CN="D%C3%A9mosth%C3%A8ne":MAILTO:demosthene.grandest@gmail.com
END:VEVENT
BEGIN:VEVENT
DTSTART;TZID=Europe/Paris:20260513T090000
DTEND;TZID=Europe/Paris:20260513T120000
DTSTAMP:20260421T111133
CREATED:20260407T070200Z
LAST-MODIFIED:20260407T070200Z
UID:7769-1778662800-1778673600@www.metztechnopoles.fr
SUMMARY:Visite d'Entreprise - Claas
DESCRIPTION:Et si nous allions à la rencontre d’un acteur industriel majeur de l’agriculture pour explorer leur savoir-faire ? \nLe Club Metz Eurométropole vous invite à une visite exclusive de l’entreprise CLAAS\, le 13 mai\, pour une matinée immersive au cœur de ses infrastructures. \nLeader européen des moissonneuses-batteuses et un acteur mondial majeur des équipements agricoles\, vous aurez l’opportunité de mieux comprendre l’organisation de la structure\, d’approcher ses engins emblématiques et d’échanger avec les équipes sur leur expertise\, leurs innovations et leurs métiers. \nProgramme de la matinée\n9h00 – Arrivée des participants \nMerci de vous munir de votre carte d’identité ou de votre passeport. \n9h00 – 9h15 – Accueil café \nCafé et croissants pour débuter la matinée. \n9h15 – 9h30 – Présentation de la structure \nPrésentation de la structure et rappel des consignes de sécurité. \n9h30 – 11h00 – Visite des infrastructures \nDécouverte des infrastructures et des engins. \n11h00 – 12h00 – Temps de réseautage \nMoment d’échanges entre participants dans le showroom. \n⚠️Le port de chaussures de sécurité est requis (des coques de protection pourront être mises à disposition si nécessaire). \n⚠️Merci de vous munir d’une pièce d’identité pour l’accès au site. \n– Lors de votre inscription\, nous vous remercions de bien vouloir sélectionner le tarif correspondant à votre statut (adhérent\, sympathisant ou adhérent supplémentaire). Cela nous permet de garantir une organisation fluide et d’éviter toute régularisation ultérieure.-
URL:https://www.metztechnopoles.fr/evenements/visite-dentreprise-claas/
LOCATION:Usine CLAAS France\, 6 Route de Thionville\, Woippy\, 57140\, France
CATEGORIES:Agenda des Clubs et Réseaux,Tous les événements
ATTACH;FMTTYPE=image/png:https://www.metztechnopoles.fr/wp-content/uploads/2026/04/Le-Club-Metz-Eurometropole-28.04.2026.png
END:VEVENT
BEGIN:VEVENT
DTSTART;TZID=Europe/Paris:20260519T083000
DTEND;TZID=Europe/Paris:20260519T173000
DTSTAMP:20260421T111133
CREATED:20260327T100958Z
LAST-MODIFIED:20260327T100958Z
UID:7749-1779179400-1779211800@www.metztechnopoles.fr
SUMMARY:Save The Date : journée portes ouvertes\, MIEEU Entreprendre : une journée pour booster votre projet !
DESCRIPTION:L’Eurométropole de Metz et Metz Techno’pôles\, ont le plaisir de vous inviter à la Journée Portes Ouvertes. \n🚀 MIEEU Entreprendre : une journée pour booster votre projet ! \nVous avez une idée ? \nUn projet en réflexion ? \nUne entreprise en création ou en développement ? \nVous êtes étudiants\, porteurs de projet\, entrepreneurs\, startups et innovateurs\, la MIEEU (Maison de l’Innovation\, de l’Entrepreneuriat\, des Écoles et de l’Université) vous ouvre ses portes pour une journée dédiée à 100 % \n📆Mardi 19 mai 2026 de 8h30 à 17h30 \n📍MIEEU – Bâtiment Telis 1 rue Marconi \n­Une occasion unique de rencontrer\, en un seul lieu\, tous les acteurs de la chaîne d’appui à l’entrepreneuriat et l’innovation : accompagnement\, financement\, test d’activité\, incubation\, développement\, hébergement…Tout l’écosystème réuni pour vous aider à passer à l’étape suivante. \n \n­\nAu programme­\n🍴Accueil café et restauration sur place \n­\n📍Un parcours unique pour rencontrer les bons contacts \n­\n🎤Des ateliers et conférence pour booster votre projet \n­\n­Des Ateliers et Conférences \nStartup Stories\n­\n8h30- 10h00 \nIls l’on fait\, ils vous racontent ! \nDe l’idée aux premiers clients : des entrepreneurs racontent leur aventure. Un échange rapide\, concret et sans langue de bois pour inspirer les futurs entrepreneurs. \nAnimé par Emmanuel Fauvel\, de The Pool \n­ \nPitch My Project\n­\n13h30 – 14h30 \nRepartez avec un pitch prêt à être utilisé \nAvec les conseils en direct de Florence Christmann et Myriam Benfatto de The Pool\, vous pourrez retravailler votre pitch concrètement pour le rendre plus clair\, plus percutant et plus convaincant. \n­
URL:https://www.metztechnopoles.fr/evenements/save-the-date-journee-portes-ouvertes-mieeu-entreprendre-une-journee-pour-booster-votre-projet/
LOCATION:TELIS\, 1 rue Marconi\, Metz\, 57070\, France
CATEGORIES:Actualités de l'Entrepreneur,ça se passe à Metz,Tous les événements
ATTACH;FMTTYPE=image/png:https://www.metztechnopoles.fr/wp-content/uploads/2026/03/VISUELS-NL-CLUBS-ET-RESEAUX-NL-2026-03-27T110845.041.png
ORGANIZER;CN="Metz Techno%E2%80%99p%C3%B4les":MAILTO:myreseau@metztechnopoles.fr
END:VEVENT
BEGIN:VEVENT
DTSTART;TZID=Europe/Paris:20260519T123000
DTEND;TZID=Europe/Paris:20260519T123000
DTSTAMP:20260421T111133
CREATED:20260414T144500Z
LAST-MODIFIED:20260414T144500Z
UID:7919-1779193800-1779193800@www.metztechnopoles.fr
SUMMARY:RDV GOURMAND
DESCRIPTION:COUSCOUS PARTY \nOuvert aux Entrepreneurs\, Dirigeants\, Décideurs et Partenaires d’affaires\n👥 Rejoignez-nous pour un repas convivial ! (à la charge de chacun)
URL:https://www.metztechnopoles.fr/evenements/rdv-gourmand/
LOCATION:Restaurant Le Villeroy\, 1\, Rue du Haut de la Taye\, Villers-lès-Nancy\, 54600\, France
CATEGORIES:Agenda des Clubs et Réseaux,Tous les événements
ATTACH;FMTTYPE=image/png:https://www.metztechnopoles.fr/wp-content/uploads/2026/04/NBC-19.05.2026.png
ORGANIZER;CN="NBC":MAILTO:viacomdeveloppement@gmail.com
END:VEVENT
BEGIN:VEVENT
DTSTART;TZID=Europe/Paris:20260521T083000
DTEND;TZID=Europe/Paris:20260521T100000
DTSTAMP:20260421T111133
CREATED:20260407T073354Z
LAST-MODIFIED:20260407T073354Z
UID:7775-1779352200-1779357600@www.metztechnopoles.fr
SUMMARY:P'tit Déj du CERM : Santé et sécurité au travail
DESCRIPTION:Le Club Entreprises Rives de Moselle organise le jeudi 21 mai 2026 au Fonds de Dotation Mercy un P’tit Déj du CERM sur le thème : Santé et sécurité au travail \nFormat :\nLe P’tit Déj du CERM\, est un rendez-vous mensuel (tous les 3ème jeudis du mois – sauf exception). De 8h30 à 10h00\, un moment de convivialité et d’échange valorisé par un expert du sujet traité. \nNotre intervenant : Claire GRUNDER et Dominique BOURRION \nProgramme :\n8h30 : Accueil des participants\n8h45– 9h30 : Intervention\n9h30 – 9h45 : Débat et échanges entre les participants\n9h45– 9h50 : Présentation des participants\n9h50 – 10h00 : Café Croissants Contact \nModalités d’inscription :\nInscription Obligatoire – Places limitées\nGratuit pour les adhérents du CERM (1 place max par entreprise adhérente de – de 50 salariés – 2 places max par entreprise adhérente de plus de 50 salariés – 12 euros pour toute personne supplémentaire)\nNon adhérent : 12 euros HT/ personne
URL:https://www.metztechnopoles.fr/evenements/ptit-dej-du-cerm-sante-et-securite-au-travail-2/
LOCATION:Fonds de dotation Mercy\, FONDS DE DOTATION MERCY\, 2 Rue de courcelles\, Metz
CATEGORIES:Agenda des Clubs et Réseaux,Tous les événements
ATTACH;FMTTYPE=image/png:https://www.metztechnopoles.fr/wp-content/uploads/2026/04/VISUELS-NL-CLUBS-ET-RESEAUX-NL-2026-04-07T092923.182.png
ORGANIZER;CN="CERM":MAILTO:contact@clubrivesdemoselle.fr
END:VEVENT
BEGIN:VEVENT
DTSTART;TZID=Europe/Paris:20260521T183000
DTEND;TZID=Europe/Paris:20260521T183000
DTSTAMP:20260421T111133
CREATED:20260414T144753Z
LAST-MODIFIED:20260414T144753Z
UID:7924-1779388200-1779388200@www.metztechnopoles.fr
SUMMARY:RDV AFTERWORK | SOIRÉE COCKTAIL APÉRO
DESCRIPTION:SOIRÉE COCKTAIL APÉRO \nOuvert aux Entrepreneurs\, Dirigeants\, Décideurs et Partenaires d’affaires\n🍸 Cocktail Apéritif à 15\,50 €/personne à la charge de chacun
URL:https://www.metztechnopoles.fr/evenements/rdv-afterwork-soiree-cocktail-apero-2/
LOCATION:Terrasse du Garden Golf\, 10 rue du Golf\, Pulnoy\, 54425\, France
CATEGORIES:Agenda des Clubs et Réseaux,Tous les événements
ATTACH;FMTTYPE=image/png:https://www.metztechnopoles.fr/wp-content/uploads/2026/04/NBC-21.05.2026.png
ORGANIZER;CN="NBC":MAILTO:viacomdeveloppement@gmail.com
END:VEVENT
BEGIN:VEVENT
DTSTART;TZID=Europe/Paris:20260521T183000
DTEND;TZID=Europe/Paris:20260521T210000
DTSTAMP:20260421T111133
CREATED:20260420T074623Z
LAST-MODIFIED:20260420T074750Z
UID:7986-1779388200-1779397200@www.metztechnopoles.fr
SUMMARY:Soirée Découverte à la Cathédrale de Metz
DESCRIPTION:Après avoir visité le Trésor et la Crypte au mois de novembre 2025\, le Club vous propose de continuer d’explorer la lanterne de Dieu lors d’une visite exclusive autour de ses vitraux. \nLe Club Metz Eurométropole vous invite à une soirée exceptionnelle au cœur de la Cathédrale Saint-Étienne de Metz\, consacrée à la découverte de ses vitraux remarquables. Véritable joyau du patrimoine messin\, la cathédrale est reconnue pour la richesse et la diversité de ses verrières. \nCette visite\, organisée par Philippe Hiegel\, président de l’association des œuvres de la cathédrale\, sera l’occasion de mieux comprendre l’histoire\, la symbolique et la dimension artistique de ces œuvres. \nAu programme de la matinée : \n18h30 – 19h00 : Accueil & réseaux \n19h00 – 20h00 : Visite des vitraux de la Cathédrale \n20h00 – 21h00 : Cocktail dinatoire
URL:https://www.metztechnopoles.fr/evenements/soiree-decouverte-a-la-cathedrale-de-metz/
LOCATION:Cathédrale de Metz\, Cathédrale de Metz\, 2 Place de Chambre\, Metz
CATEGORIES:Agenda des Clubs et Réseaux,Tous les événements
ATTACH;FMTTYPE=image/png:https://www.metztechnopoles.fr/wp-content/uploads/2026/04/Le-Club-Metz-Eurometropole-28.04.2026-1-1.png
END:VEVENT
BEGIN:VEVENT
DTSTART;TZID=Europe/Paris:20260528T083000
DTEND;TZID=Europe/Paris:20260528T100000
DTSTAMP:20260421T111133
CREATED:20251014T082242Z
LAST-MODIFIED:20260410T141722Z
UID:7039-1779957000-1779962400@www.metztechnopoles.fr
SUMMARY:Masterclass d'Expertise : Agir dans la complexité : comment choisir l'essentiel ?
DESCRIPTION:Metz Techno’pôles\, en partenariat avec la Banque Populaire Alsace Lorraine Champagne\, co-organisé avec Le Club Metz Eurométropole a le plaisir de vous inviter à la prochaine Masterclass d’Expertise du CESCOM \nAgir dans la complexité : comment choisir l’essentiel ? \n\nCette édition sera présentée par \n\nGEANT Thierry\, fondateur de enAlto & myanzo et co-fondateur de ready4sense\n\n\nAu programme : \n\n08H15 : Accueil – café et viennoiseries – réseautage\n08H30 : Début de la Masterclass\n09H30 : Échanges et débats avec les participants\n10H00 : Fin de la Masterclass\n\nInscription : obligatoire | participation gratuite\nOrganisateur : Myreseau\nPlus d’informations : myreseau@metztechnopoles.fr
URL:https://www.metztechnopoles.fr/evenements/masterclass-dexpertise-%f0%9d%90%8f%f0%9d%90%ab%f0%9d%90%a8%f0%9d%90%9f%f0%9d%90%9e%f0%9d%90%ac%f0%9d%90%ac%f0%9d%90%a2%f0%9d%90%a8%f0%9d%90%a7%f0%9d%90%a7%f0%9d%90%9e%f0%9d%90%a5%f0%9d%90%ac/
LOCATION:CESCOM\, 4 rue Marconi\, Metz\, 57070
CATEGORIES:Agenda des Clubs et Réseaux,Agenda Myreseau,Tous les événements
ATTACH;FMTTYPE=image/png:https://www.metztechnopoles.fr/wp-content/uploads/2025/10/VISUELS-NL-CLUBS-ET-RESEAUX-NL-2.png
ORGANIZER;CN="MYRESEAU":MAILTO:myreseau@metztechnopoles.fr
END:VEVENT
BEGIN:VEVENT
DTSTART;TZID=Europe/Paris:20260605T083000
DTEND;TZID=Europe/Paris:20260605T100000
DTSTAMP:20260421T111133
CREATED:20251014T081636Z
LAST-MODIFIED:20260417T090129Z
UID:7036-1780648200-1780653600@www.metztechnopoles.fr
SUMMARY:Atelier de la Com' : GEO : comment rendre sa marque visible dans ChatGPT\, Gemini et Perplexity
DESCRIPTION:Metz Techno’pôles\, en partenariat avec Troisième Voix\, a le plaisir de vous inviter au prochain Atelier de la Com’ qui aura pour thème : \n\nTendances marketing & communication 2026 \n\n\nCette édition sera animée Matthieu Hornet\, Directeur\, Troisième Voix \n\n\n08h15 Accueil – Café et Viennoiseries – Réseautage\n08h30 Début de la Matinale\n09h30 Échanges et débats avec les participants\n10h00 Fin de la Matinale\n\nInscription obligatoire | Participation gratuite\nOrganisateur : Metz Techno’pôles\nPlus d’informations : 03 87 20 41 42 | myreseau@metztechnopoles.fr
URL:https://www.metztechnopoles.fr/evenements/atelier-de-la-com-social-media-faut-il-ralentir-pour-emerger/
LOCATION:CESCOM\, 4 rue Marconi\, Metz\, 57070
CATEGORIES:Agenda Myreseau,Tous les événements
ATTACH;FMTTYPE=image/png:https://www.metztechnopoles.fr/wp-content/uploads/2025/10/VISUELS-NL-CLUBS-ET-RESEAUX-NL-3.png
ORGANIZER;CN="MYRESEAU":MAILTO:myreseau@metztechnopoles.fr
END:VEVENT
BEGIN:VEVENT
DTSTART;TZID=Europe/Paris:20260610T083000
DTEND;TZID=Europe/Paris:20260610T100000
DTSTAMP:20260421T111133
CREATED:20250707T124218Z
LAST-MODIFIED:20260417T091526Z
UID:6720-1781080200-1781085600@www.metztechnopoles.fr
SUMMARY:Masterclass d'Expertise : Addictions et travail : comprendre pour mieux prévenir
DESCRIPTION:Metz Techno’pôles\, en partenariat avec la Banque Populaire Alsace Lorraine Champagne\, co-organisé avec Le Club Metz Eurométropole a le plaisir de vous inviter à la prochaine Matinale d’Expertise du CESCOM \nAddictions et travail : comprendre pour mieux prévenir \n\nCette édition sera présentée par \n\nMarjorie CASEL\, Infirmière en santé au travail\nRachel BOUANANI\, Infirmière en santé au travail\n\n\nAu programme : \n\n08H15 : Accueil – café et viennoiseries – réseautage\n08H30 : Début de la Masterclass\n09H30 : Échanges et débats avec les participants\n10H00 : Fin de la Masterclass\n\nInscription : obligatoire | participation gratuite\nOrganisateur : Myreseau\nPlus d’informations : myreseau@metztechnopoles.fr
URL:https://www.metztechnopoles.fr/evenements/masterclass-dexpertise-alignement-des-valeurs-personnelles-et-objectifs-dentreprise-pour-une-performance-durable/
LOCATION:CESCOM\, 4 rue Marconi\, Metz\, 57070
CATEGORIES:Agenda des Clubs et Réseaux,Agenda Myreseau,Tous les événements
ATTACH;FMTTYPE=image/png:https://www.metztechnopoles.fr/wp-content/uploads/2025/07/VISUELS-NL-CLUBS-ET-RESEAUX-NL-4.png
ORGANIZER;CN="MYRESEAU":MAILTO:myreseau@metztechnopoles.fr
END:VEVENT
BEGIN:VEVENT
DTSTART;TZID=Europe/Paris:20260624T130000
DTEND;TZID=Europe/Paris:20260624T170000
DTSTAMP:20260421T111133
CREATED:20260421T074911Z
LAST-MODIFIED:20260421T074911Z
UID:7990-1782306000-1782320400@www.metztechnopoles.fr
SUMMARY:Journée Portes Ouvertes | CCI Campus Moselle
DESCRIPTION:Rencontre nos conseillers en formation et trouve l’alternance qui est faite pour toi ! \nProgramme \n\nPrésentation de nos formations en alternance\,\nEntretiens individuels et 100% personnalisés\,\nVisites du bâtiment.
URL:https://www.metztechnopoles.fr/evenements/journee-portes-ouvertes-cci-campus-moselle/
LOCATION:CCI Campus Moselle\, 5 rue Jean-Antoine Chaptal\, Metz\, 57000\, France
CATEGORIES:Actualités Grandes Écoles,Tous les événements
ATTACH;FMTTYPE=image/png:https://www.metztechnopoles.fr/wp-content/uploads/2026/04/CCI-CAMPUS-PRO-JOURNEE-PORTES-OUVERTES.png
ORGANIZER;CN="CCI CAMPUS MOSELLE":MAILTO:s.godfroy@moselle.cci.fr
END:VEVENT
BEGIN:VEVENT
DTSTART;TZID=Europe/Paris:20261008T180000
DTEND;TZID=Europe/Paris:20261008T210000
DTSTAMP:20260421T111133
CREATED:20260220T132925Z
LAST-MODIFIED:20260220T133343Z
UID:7502-1791482400-1791493200@www.metztechnopoles.fr
SUMMARY:Save the date : Conférence & table ronde : la santé des dirigeants
DESCRIPTION:
URL:https://www.metztechnopoles.fr/evenements/save-the-date-conference-table-ronde-la-sante-des-dirigeants/
LOCATION:Parc des Expositions Centre de Convention du Technopôle\, rue de la Grange aux Bois\, Metz\, 57070\, France
CATEGORIES:Actualités des Partenaires,Tous les événements
ATTACH;FMTTYPE=image/png:https://www.metztechnopoles.fr/wp-content/uploads/2026/02/VISUELS-NL-CLUBS-ET-RESEAUX-NL-2026-02-20T143149.398.png
ORGANIZER;CN="Agestra":MAILTO:sante-travail@agestra.org
END:VEVENT
END:VCALENDAR